BEGIN:VCALENDAR
VERSION:2.0
PRODID:-//Turcja&#039;da - ECPv6.15.20//NONSGML v1.0//EN
CALSCALE:GREGORIAN
METHOD:PUBLISH
X-WR-CALNAME:Turcja&#039;da
X-ORIGINAL-URL:https://turcjada.pl
X-WR-CALDESC:Wydarzenia dla Turcja&#039;da
REFRESH-INTERVAL;VALUE=DURATION:PT1H
X-Robots-Tag:noindex
X-PUBLISHED-TTL:PT1H
BEGIN:VTIMEZONE
TZID:Europe/Warsaw
BEGIN:DAYLIGHT
TZOFFSETFROM:+0100
TZOFFSETTO:+0200
TZNAME:CEST
DTSTART:20220327T010000
END:DAYLIGHT
BEGIN:STANDARD
TZOFFSETFROM:+0200
TZOFFSETTO:+0100
TZNAME:CET
DTSTART:20221030T010000
END:STANDARD
BEGIN:DAYLIGHT
TZOFFSETFROM:+0100
TZOFFSETTO:+0200
TZNAME:CEST
DTSTART:20230326T010000
END:DAYLIGHT
BEGIN:STANDARD
TZOFFSETFROM:+0200
TZOFFSETTO:+0100
TZNAME:CET
DTSTART:20231029T010000
END:STANDARD
BEGIN:DAYLIGHT
TZOFFSETFROM:+0100
TZOFFSETTO:+0200
TZNAME:CEST
DTSTART:20240331T010000
END:DAYLIGHT
BEGIN:STANDARD
TZOFFSETFROM:+0200
TZOFFSETTO:+0100
TZNAME:CET
DTSTART:20241027T010000
END:STANDARD
BEGIN:DAYLIGHT
TZOFFSETFROM:+0100
TZOFFSETTO:+0200
TZNAME:CEST
DTSTART:20250330T010000
END:DAYLIGHT
BEGIN:STANDARD
TZOFFSETFROM:+0200
TZOFFSETTO:+0100
TZNAME:CET
DTSTART:20251026T010000
END:STANDARD
END:VTIMEZONE
BEGIN:VTIMEZONE
TZID:Europe/Istanbul
BEGIN:STANDARD
TZOFFSETFROM:+0300
TZOFFSETTO:+0300
TZNAME:+03
DTSTART:20220101T000000
END:STANDARD
END:VTIMEZONE
BEGIN:VEVENT
DTSTART;VALUE=DATE:20240824
DTEND;VALUE=DATE:20240828
DTSTAMP:20260419T145328
CREATED:20240324T211908Z
LAST-MODIFIED:20240405T051703Z
UID:2260-1724457600-1724803199@turcjada.pl
SUMMARY:13. Festiwal tańca\, muzyki i pişmaniye
DESCRIPTION:Prowincja Kocaeli\, a zwłaszcza miasto İzmit słynie z produkcji pişmaniye – tureckiego przysmaku\, znanego też jako wata chałwowa\, chałwa sznurkowa lub wata cukrowa o smaku chałwy. Na festiwalu będzie okazja spróbować tych słodyczy w wielu wersjach\, obserwować sposób produkcji\, a także spalić kalorie przy lokalnej muzyce. \nDowiedz się więcej o pişmaniye. \nData festiwalu może ulec zmianie\, zainteresowanych zapraszamy do sprawdzenia terminu ponownie – tutaj lub na oficjalnej stronie miasta İzmit.
URL:https://turcjada.pl/event/13-festiwal-tanca-muzyki-i-pismaniye/
LOCATION:İzmit Kent Meydanı\, Tepecik\, İstanbul İzmit Yanyolu No:59\, İzmit\, Kocaeli\, 41040\, Turkey
CATEGORIES:jedzenie i picie,muzyka
ATTACH;FMTTYPE=image/jpeg:https://turcjada.pl/wp-content/uploads/2024/03/IMG_20240324_212817936_HDR-scaled.jpg
END:VEVENT
BEGIN:VEVENT
DTSTART;VALUE=DATE:20240310
DTEND;VALUE=DATE:20240409
DTSTAMP:20260419T145329
CREATED:20230923T232243Z
LAST-MODIFIED:20230923T232453Z
UID:857-1710028800-1712620799@turcjada.pl
SUMMARY:Ramadan 2024
DESCRIPTION:Podczas Ramadanu życie toczy się nocą. Wybierając się na wakacje nie zapomnij sprawdzić\, kiedy wypadają miejscowe święta. Dostosuj swoje plany urlopowe do kalendarza wydarzeń i w pełni ciesz się wypoczynkiem! \nRamadan to ważny czas w krajach muzułmańskich. Tradycja zakazuje jedzenia\, picia oraz palenia w tym czasie – przynajmniej od świtu do zmierzchu. Będąc w Turcji w trakcie Ramadanu 2024 musisz liczyć się z tym\, że dostępność restauracji będzie mniejsza niż zwykle. W miejscowościach turystycznych ludzie nie podchodzą do tego tak restrykcyjnie. \n\n 
URL:https://turcjada.pl/event/ramadan-2024/
LOCATION:Kocaeli
ATTACH;FMTTYPE=image/png:https://turcjada.pl/wp-content/uploads/2023/09/ramadan-2366301_640.png
END:VEVENT
BEGIN:VEVENT
DTSTART;VALUE=DATE:20231211
DTEND;VALUE=DATE:20231217
DTSTAMP:20260419T145329
CREATED:20231209T123817Z
LAST-MODIFIED:20231209T123817Z
UID:1703-1702252800-1702771199@turcjada.pl
SUMMARY:20. Międzynarodowy festiwal teatru Karagöz
DESCRIPTION:Teatr cieni\, teatr kukiełkowy – na pewno słyszeliście o tym słynnym widowisku. Ludowa sztuka turecka\, która bawi widzów ponad 600 lat jest na pewno warta obejrzenia. Na scenie tradycyjnie spotkają się prostak Karagöz i mądrala Hacıvat\, a ich dialogi to połączenie satyry politycznej\, burleski i komedii w najlepszym wydaniu. Nie zabraknie odniesień do bieżących wydarzeń oraz do tradycyjnych wartości\, każdy znajdzie coś dla siebie. Nawet osoby\, które nie znają tureckiego powinny chociaż raz zobaczyć na żywo ten niesamowity spektakl. Od 2009 roku teatr cieni jest uznawany przez UNESCO za niematerialne dziedzictwo kulturowe Turcji. \nW ramach festiwalu będzie można wziąć udział w wielu warsztatach\, odczytach\, zapoznać się z ekspozycjami dotyczącymi historii teatru kukiełkowego i – przede wszystkim – obejrzeć liczne przedstawienia. Radzimy zajrzeć do programu\, ponieważ wydarzenia będą równolegle odbywać się w kilku punktach na terenie Bursy. W podanym linku należy kliknąć na zakładkę kitapçık i odszukać w broszurze plan na kolejne dni.
URL:https://turcjada.pl/event/20-miedzynarodowy-festiwal-teatru-karagoz/
LOCATION:Tayyare Kültür Merkezi\, Osmangazi Atatürk Cad\, 6. Uçak Sk. No:1\, Osmangazi/Bursa\, Bursa\, 16020
CATEGORIES:sztuka,teatr
ATTACH;FMTTYPE=image/jpeg:https://turcjada.pl/wp-content/uploads/2023/12/20-festiwal-teatru-karagoz-Bursa.jpg
END:VEVENT
BEGIN:VEVENT
DTSTART;TZID=Europe/Warsaw:20231210T130000
DTEND;TZID=Europe/Warsaw:20231210T180000
DTSTAMP:20260419T145329
CREATED:20231209T120111Z
LAST-MODIFIED:20231209T120111Z
UID:1690-1702213200-1702231200@turcjada.pl
SUMMARY:3. Tradycyjny festiwal sardeli
DESCRIPTION:Trzecia edycja festiwalu pozwoli na skosztowanie sardeli w wielu odsłonach. Te małe rybki to kolejna specjalność kulinarna w Turcji – podawane w tradycyjnych opiekanych kanapkach lub jeszcze ciepłe z dużej patelni na pewno Was zachwycą. Festiwal odbędzie się na świeżym powietrzu\, co z pewnością wzmocni apetyty.
URL:https://turcjada.pl/event/3-tradycyjny-festiwal-sardeli-w-ankarze/
LOCATION:Üreğil Millet Bahçesi\, Üreğil\, 1152. Sk. No:76\, Mamak\, Ankara\, Ankara\, 06270
CATEGORIES:jedzenie i picie
ATTACH;FMTTYPE=image/jpeg:https://turcjada.pl/wp-content/uploads/2023/12/3-festiwal-sardeli-mamak-ankara.jpg
END:VEVENT
BEGIN:VEVENT
DTSTART;TZID=Europe/Warsaw:20230929T200000
DTEND;TZID=Europe/Warsaw:20231001T233000
DTSTAMP:20260419T145329
CREATED:20230924T112311Z
LAST-MODIFIED:20231014T115737Z
UID:949-1696017600-1696203000@turcjada.pl
SUMMARY:26. Festiwal winogron sułtańskich 2023
DESCRIPTION:Z okazji zbioru słynnych winogron bezpestkowych czeka na Was wiele atrakcji – między innymi codzienne koncerty
URL:https://turcjada.pl/event/26-festiwal-winogron-sultanskich-2023/
LOCATION:Buldan\, Kurtuluş Mah. Ataturk Cad. Nr:2\, Buldan\, Denizli\, Turkey
CATEGORIES:jedzenie i picie,turystyka
ATTACH;FMTTYPE=image/jpeg:https://turcjada.pl/wp-content/uploads/2023/09/denizli-festiwal-winoron-sultanskich.jpg
END:VEVENT
BEGIN:VEVENT
DTSTART;TZID=Europe/Warsaw:20230929T160000
DTEND;TZID=Europe/Warsaw:20230930T220000
DTSTAMP:20260419T145329
CREATED:20230924T113247Z
LAST-MODIFIED:20231014T115745Z
UID:954-1696003200-1696111200@turcjada.pl
SUMMARY:27. Dni archeologiczne w Mersin 2023
DESCRIPTION:Wydarzenie\, będące organizacją skupiającą zespoły wykopaliskowe i badawcze oraz władze lokalne oraz wzmacniające ich komunikację\, daje naukowcom możliwość oceny innych badań i skorzystania z ich wyników poprzez zebranie badań związanych z prowincją Mersin i zaprezentowanie ich na spotkaniu \, zapewniając jednocześnie środowisko do dyskusji na temat badań przeprowadzonych w tym samym regionie. Stwierdzając\, że nigdy nie patrzyli na historię i archeologię ideologicznie i nie będą tego robić w przyszłości\, Elvan powiedział: „Patrzyliśmy na historię jako na kontynuację wielkiej historii ludzkości. Każde dziedzictwo historyczne jest wspólnym dziedzictwem ludzkości\, niezależnie od jego okresu. Nagromadzenie wiedzy i nagromadzenie poprzednich cywilizacji jest także wspólnym dziedzictwem ludzkości. Ale muszę to powiedzieć szczerze\, Jest to dziedzictwo\, które Turcja\, nasz naród i nasza cywilizacja chronią w pierwszej kolejności. Najdłużej żyjąca cywilizacja w tej geografii\, miejmy nadzieję\, cywilizacja\, która będzie żyć do końca czasów\, to cywilizacja\, którą założyliśmy\, którą utrzymywaliśmy przy życiu przez tysiąc lat i do której mamy zaszczyt należeć. Z tego powodu\, niezależnie od sztuki i cywilizacji jakiegokolwiek okresu\, najlepiej byłoby\, abyśmy przywieźli\, chronili i chronili tę wiedzę\, najpierw do Turcji\, a następnie na cały świat.
URL:https://turcjada.pl/event/27-dni-archeologiczne-w-mersin-2023/
LOCATION:Atatürk Kültür Merkezi Barış Salonu\, Yenisehir\, Mersin\, Mersin\, Turkey
ATTACH;FMTTYPE=image/png:https://turcjada.pl/wp-content/uploads/2023/09/27-dni-archeoloii-w-Mersin.png
END:VEVENT
BEGIN:VEVENT
DTSTART;TZID=Europe/Warsaw:20230929T150000
DTEND;TZID=Europe/Warsaw:20231001T233000
DTSTAMP:20260419T145329
CREATED:20230924T114501Z
LAST-MODIFIED:20231014T115751Z
UID:959-1695999600-1696203000@turcjada.pl
SUMMARY:Live from Istanbul 2023
DESCRIPTION:Organizowany przez Bayhan Music i prezentujący najmocniejszy skład festiwalowy sezonu\, „Live From Istanbul Fest” odbędzie się w Festival Park Yenikapı w dniach 29–30 września i 1 października. \n29 września 2023\, piątek: \n\n22.00 Teoman\n20.15 Gripin\n18.45 Onur Özdemir “sakin tribute”\n17.30 Gökcan Sanlıman\n16.15 Batu Akdeniz\n15.30 Parola\n\n30 września 2023\, sobota: \n\n22.00 Tan Taşçı\n20.15 Funda Arar\n18.45 Can Gox\n17.30 Fikri Karayel\n16.15 Anıl Emre Daldal\n\n1 października 2023\, niedziela: \n\n22.00 David Guetta\n20.00 Meduza\n19.00 MistaJam\n18.00 Abel\n17.00 Yasin Keleş\n16.15 Emrah Karaduman\n15.30 Random\n15.00 Leyna
URL:https://turcjada.pl/event/live-from-istanbul-2023/
LOCATION:Festival Park Yenikapı\, Aksaray\, Kennedy Cad. No:13\, Istanbul\, 34096\, Turkey
CATEGORIES:muzyka
ATTACH;FMTTYPE=image/jpeg:https://turcjada.pl/wp-content/uploads/2023/09/live-from-istanbul-2023.jpg
END:VEVENT
BEGIN:VEVENT
DTSTART;TZID=Europe/Warsaw:20230929T110000
DTEND;TZID=Europe/Warsaw:20231001T220000
DTSTAMP:20260419T145329
CREATED:20230924T120025Z
LAST-MODIFIED:20231014T115757Z
UID:963-1695985200-1696197600@turcjada.pl
SUMMARY:3. Festiwal kawy w Eskisehir 2023
DESCRIPTION:W planie degustacja kawy\, warsztaty kawowe i wiele innych atrakcji związanych z kawą. Zagrają: \nPiątek: Electronic Stage \nSobota: Dedublüman\, Yüksek Sadakat \nNiedziela: (lata 90’te): Burak Kut\, Reyhan Karaca\, Mansur Ark\, Grup Vitamin\, Retrobüs
URL:https://turcjada.pl/event/3-festiwal-kawy-w-eskisehir-2023/
LOCATION:Vecihi Hürkuş Havacılık Müzesi ve Teknoloji Parkı\, Yenibağlar\, Uludağ Sk. No:10\, Tepebaşı/Eskişehir\, Eskisehir\, 26170
ATTACH;FMTTYPE=image/jpeg:https://turcjada.pl/wp-content/uploads/2023/09/festiwal-kawy-eskisehir-2023.jpg
END:VEVENT
BEGIN:VEVENT
DTSTART;TZID=Europe/Warsaw:20230929T090000
DTEND;TZID=Europe/Warsaw:20231001T233000
DTSTAMP:20260419T145330
CREATED:20230924T110232Z
LAST-MODIFIED:20231014T115805Z
UID:944-1695978000-1696203000@turcjada.pl
SUMMARY:5. Międzynarodowy festiwal smaku i turystyki GastroAfyon
DESCRIPTION:Festiwal uświetnią występy znanych szefów kuchni i naukowców\, pokazami gastronomicznymi i opracowaniami naukowymi; Odbędą się w nim konkursy kulinarne\, panele\, koncerty i wiele wydarzeń-niespodzianek. \nMiędzynarodowy Festiwal Smaku i Turystyki Gastro Afyon\, który w tym roku odbędzie się po raz piąty\, a którego gospodarzem jest gmina Afyonkarahisar\, odbędzie się w Centrum Sportów Motorowych w dniach 29-30 września-1 października.
URL:https://turcjada.pl/event/5-miedzynarodowy-festiwal-smaku-i-turystyki-gastroafyon/
LOCATION:Motor Sporlari Merkezi\, Karaman Mahallesi Albay Reşat Çiğiltepe Caddesi No:11\, Afyonkarahisar\, Afyonkarahisar\, 03200\, Turkey
CATEGORIES:gastronomia,jedzenie i picie
ATTACH;FMTTYPE=image/jpeg:https://turcjada.pl/wp-content/uploads/2023/09/5-gastroafyon.jpg
END:VEVENT
BEGIN:VEVENT
DTSTART;TZID=Europe/Warsaw:20230929T000000
DTEND;TZID=Europe/Warsaw:20231001T000000
DTSTAMP:20260419T145330
CREATED:20230924T105444Z
LAST-MODIFIED:20231014T115812Z
UID:940-1695945600-1696118400@turcjada.pl
SUMMARY:2. Międzynarodowy festiwal literatury i sztuki Homera 2023
DESCRIPTION:Gościem honorowym tegorocznego festiwalu\, który przygotowywany jest pod hasłem „W mieście Homera”\, będzie światowej sławy autor Marc Levy. \n\nHomer\, uznawany przez władze międzynarodowe za pochodzącego z Izmiru i piszącego swoje dzieła nad brzegiem potoku Meles\, powróci do swojego „urodzonego miasta” z Międzynarodowym Festiwalem Literatury i Sztuki Homera\, organizowanym przez gminę Bayraklı!
URL:https://turcjada.pl/event/2-miedzynarodowy-festiwal-literatury-i-sztuki-homera-2023/
LOCATION:Tepekule Kongre Merkezi\, Smyrna Höyüğü\, Izmir\, Turkey
ATTACH;FMTTYPE=image/jpeg:https://turcjada.pl/wp-content/uploads/2023/09/festiwal-homera-2023.jpg
END:VEVENT
BEGIN:VEVENT
DTSTART;TZID=Europe/Istanbul:20230925T203000
DTEND;TZID=Europe/Istanbul:20231001T235900
DTSTAMP:20260419T145330
CREATED:20230924T100349Z
LAST-MODIFIED:20231014T115819Z
UID:919-1695673800-1696204740@turcjada.pl
SUMMARY:Regionalny festiwal kolorów Antalya 2023
DESCRIPTION:Regionalny festiwal kolorów to wydarzenie łączące różne grupy etniczne i kulturowe\, które mieszkają na terenie Antalyi. Będziemy mieć okazję na wysłuchanie codziennie koncertu. To już 7 edycja tego wydarzenia. \nKoncerty zaczynają się o 20:30 i trwają do północy: \n25.09.2023 – Sabahat Akkiraz \n26.09.2023 Ilke Turkdogan & Antalya Orkestrasi \n27.09.2023 Serpil Efe \n28.09.2023 Ismail Cakir \n29.09.2023 Koliya \n30.09.2023 Kardes Turkuler \n1.10.2023 Cenk Bosnali
URL:https://turcjada.pl/event/regionalny-festiwal-kolorow-antalya-2023/
LOCATION:Muratpasa Ataturk Kent Meydani\, Fener Mahallesi Tekelioglu Caddesi 63\, Antalya\, Antalya\, 07160\, Turkey
CATEGORIES:kultura,muzyka,sztuka
ATTACH;FMTTYPE=image/jpeg:https://turcjada.pl/wp-content/uploads/2023/09/festiwal-kolorow-antalya-2023.jpg
END:VEVENT
BEGIN:VEVENT
DTSTART;TZID=Europe/Warsaw:20230925T000000
DTEND;TZID=Europe/Warsaw:20231001T000000
DTSTAMP:20260419T145330
CREATED:20230924T104339Z
LAST-MODIFIED:20231014T115826Z
UID:932-1695600000-1696118400@turcjada.pl
SUMMARY:16. Festiwal żonglerki tureckiej
DESCRIPTION:Pokazy żonglerskie na kampingu położonym niedaleko Kemer
URL:https://turcjada.pl/event/16-festiwal-zonglerki-tureckiej/
LOCATION:Sundance Nature Village\, Tekirova\, Süleyman Egel Sok No:62\, Kemer\, Antalya\, 07995
ATTACH;FMTTYPE=image/jpeg:https://turcjada.pl/wp-content/uploads/2023/09/festiwal-zzonglerki-tureckiej-2023.jpg
END:VEVENT
BEGIN:VEVENT
DTSTART;TZID=Europe/Warsaw:20230924T120000
DTEND;TZID=Europe/Warsaw:20231001T190000
DTSTAMP:20260419T145330
CREATED:20230924T000205Z
LAST-MODIFIED:20231014T115832Z
UID:894-1695556800-1696186800@turcjada.pl
SUMMARY:Festiwal uliczny Gerze Cittaslow 2023
DESCRIPTION:Rękodzieło i lokalne przysmaki!\nNa tegorocznej imprezie czeka na Państwa wspaniały festyn uliczny\, podczas którego prezentowane będzie rękodzieło i lokalne przysmaki\, w którym weźmie udział 259 wystawców. Promowane i sprzedawane będą produkty ręcznie robione\, a swoje produkty zaprezentują lokalni rzemieślnicy i mistrzowie smaku.\nStarożytne gry uliczne\, namiot na specjalne okazje dla dzieci\, muzyka na żywo na ulicy i wiele więcej! Festiwal uliczny w Gerze rozpocznie się o godzinie 12:00 w niedzielę 24 września\, zakończy się w niedzielę 1 października. Zabawne i przyjemne zajęcia czekają na Ciebie przez 7 dni bez przerwy. \nCodziennie podczas trwania wydarzenia odbywać się będzie loteria fantowa. Czekają wspaniałe prezenty\, które można rozlosować na naszych stoiskach biorących udział w konkursie. Każdy\, kto weźmie udział\, ma szansę coś wygrać!
URL:https://turcjada.pl/event/festiwal-uliczny-gerze-cittaslow-2023/
LOCATION:Gerze\, Gerze\, Sinop\, Turkey
CATEGORIES:festyn,kultura,sztuka,turystyka
ATTACH;FMTTYPE=image/jpeg:https://turcjada.pl/wp-content/uploads/2023/09/slider-705x284-1.jpg
END:VEVENT
END:VCALENDAR