BEGIN:VCALENDAR
VERSION:2.0
PRODID:-//Turcja&#039;da - ECPv6.15.20//NONSGML v1.0//EN
CALSCALE:GREGORIAN
METHOD:PUBLISH
X-ORIGINAL-URL:https://turcjada.pl
X-WR-CALDESC:Wydarzenia dla Turcja&#039;da
REFRESH-INTERVAL;VALUE=DURATION:PT1H
X-Robots-Tag:noindex
X-PUBLISHED-TTL:PT1H
BEGIN:VTIMEZONE
TZID:Europe/Warsaw
BEGIN:DAYLIGHT
TZOFFSETFROM:+0100
TZOFFSETTO:+0200
TZNAME:CEST
DTSTART:20220327T010000
END:DAYLIGHT
BEGIN:STANDARD
TZOFFSETFROM:+0200
TZOFFSETTO:+0100
TZNAME:CET
DTSTART:20221030T010000
END:STANDARD
BEGIN:DAYLIGHT
TZOFFSETFROM:+0100
TZOFFSETTO:+0200
TZNAME:CEST
DTSTART:20230326T010000
END:DAYLIGHT
BEGIN:STANDARD
TZOFFSETFROM:+0200
TZOFFSETTO:+0100
TZNAME:CET
DTSTART:20231029T010000
END:STANDARD
BEGIN:DAYLIGHT
TZOFFSETFROM:+0100
TZOFFSETTO:+0200
TZNAME:CEST
DTSTART:20240331T010000
END:DAYLIGHT
BEGIN:STANDARD
TZOFFSETFROM:+0200
TZOFFSETTO:+0100
TZNAME:CET
DTSTART:20241027T010000
END:STANDARD
END:VTIMEZONE
BEGIN:VEVENT
DTSTART;VALUE=DATE:20231211
DTEND;VALUE=DATE:20231217
DTSTAMP:20260419T180537
CREATED:20231209T123817Z
LAST-MODIFIED:20231209T123817Z
UID:1703-1702252800-1702771199@turcjada.pl
SUMMARY:20. Międzynarodowy festiwal teatru Karagöz
DESCRIPTION:Teatr cieni\, teatr kukiełkowy – na pewno słyszeliście o tym słynnym widowisku. Ludowa sztuka turecka\, która bawi widzów ponad 600 lat jest na pewno warta obejrzenia. Na scenie tradycyjnie spotkają się prostak Karagöz i mądrala Hacıvat\, a ich dialogi to połączenie satyry politycznej\, burleski i komedii w najlepszym wydaniu. Nie zabraknie odniesień do bieżących wydarzeń oraz do tradycyjnych wartości\, każdy znajdzie coś dla siebie. Nawet osoby\, które nie znają tureckiego powinny chociaż raz zobaczyć na żywo ten niesamowity spektakl. Od 2009 roku teatr cieni jest uznawany przez UNESCO za niematerialne dziedzictwo kulturowe Turcji. \nW ramach festiwalu będzie można wziąć udział w wielu warsztatach\, odczytach\, zapoznać się z ekspozycjami dotyczącymi historii teatru kukiełkowego i – przede wszystkim – obejrzeć liczne przedstawienia. Radzimy zajrzeć do programu\, ponieważ wydarzenia będą równolegle odbywać się w kilku punktach na terenie Bursy. W podanym linku należy kliknąć na zakładkę kitapçık i odszukać w broszurze plan na kolejne dni.
URL:https://turcjada.pl/event/20-miedzynarodowy-festiwal-teatru-karagoz/
LOCATION:Tayyare Kültür Merkezi\, Osmangazi Atatürk Cad\, 6. Uçak Sk. No:1\, Osmangazi/Bursa\, Bursa\, 16020
CATEGORIES:sztuka,teatr
ATTACH;FMTTYPE=image/jpeg:https://turcjada.pl/wp-content/uploads/2023/12/20-festiwal-teatru-karagoz-Bursa.jpg
END:VEVENT
END:VCALENDAR